BEGIN:VCALENDAR
VERSION:2.0
PRODID:https://fedsoc.org/events/obama-s-enforcer-eric-holder-s-justice-dep
 artment-6
BEGIN:VEVENT
UID:63a7afe58aaba
DTSTART:20140811T184500Z
SEQUENCE:0
TRANSP:OPAQUE
DTEND:20140811T200000Z
LOCATION:360 E. Flamingo Rd. Las Vegas NV 89169
SUMMARY:Obama’s Enforcer: Eric Holder’s Justice Department
CLASS:PUBLIC
X-ALT-DESC;FMTTYPE=text/html:Event: Obama’s Enforcer: Eric Holder’s Jus
 tice Department\n\n Location: 360 E. Flamingo Rd. Las Vegas NV 89169\n\n
DTSTAMP:20221224T210525Z
END:VEVENT
END:VCALENDAR