BEGIN:VCALENDAR
VERSION:2.0
PRODID:https://fedsoc.org/events/overruled-the-long-war-for-control-of-the-
 us-supreme-court
BEGIN:VEVENT
UID:60fa0d88a1fce
DTSTART:20141118T233000Z
SEQUENCE:0
TRANSP:OPAQUE
DTEND:20141119T013000Z
LOCATION:1127 Connecticut Avenue NW Washington DC 20036
SUMMARY:Overruled: The Long War for Control of the U.S. Supreme Court
CLASS:PUBLIC
X-ALT-DESC;FMTTYPE=text/html:Event: Overruled: The Long War for Control of 
 the U.S. Supreme Court\n\n Location: 1127 Connecticut Avenue NW Washington
  DC 20036\n\n
DTSTAMP:20210722T203000Z
END:VEVENT
END:VCALENDAR