BEGIN:VCALENDAR
VERSION:2.0
PRODID:https://fedsoc.org/events/debate-hobby-lobby-decision
BEGIN:VEVENT
UID:63a9cc3cdad19
DTSTART:20150325T160000Z
SEQUENCE:0
TRANSP:OPAQUE
DTEND:20150325T180000Z
LOCATION:529 14th Street NW Washington DC 20045
SUMMARY:Debate: Hobby Lobby Decision
CLASS:PUBLIC
X-ALT-DESC;FMTTYPE=text/html:Event: Debate: Hobby Lobby Decision\n\n Locati
 on: 529 14th Street NW Washington DC 20045\n\n
DTSTAMP:20221226T113052Z
END:VEVENT
END:VCALENDAR