BEGIN:VCALENDAR
VERSION:2.0
PRODID:https://fedsoc.org/events/judicial-activism-and-the-nevada-judiciary
 -a-national-perspective
BEGIN:VEVENT
UID:63a9833ed8220
DTSTART:20160128T194500Z
SEQUENCE:0
TRANSP:OPAQUE
DTEND:20160128T210000Z
LOCATION:360 E. Flamingo Rd. Las Vegas NV 89169
SUMMARY:Judicial Activism and the Nevada Judiciary: A National Perspective
CLASS:PUBLIC
X-ALT-DESC;FMTTYPE=text/html:Event: Judicial Activism and the Nevada Judici
 ary: A National Perspective\n\n Location: 360 E. Flamingo Rd. Las Vegas NV
  89169\n\n
DTSTAMP:20221226T061926Z
END:VEVENT
END:VCALENDAR