BEGIN:VCALENDAR
VERSION:2.0
PRODID:https://fedsoc.org/events/supreme-court-preview-what-is-in-store-for
 -october-term-2016
BEGIN:VEVENT
UID:63a9b50a6744b
DTSTART:20160927T160000Z
SEQUENCE:0
TRANSP:OPAQUE
DTEND:20160927T180000Z
LOCATION:529 14th Street\, NW Washington DC 20045
SUMMARY:Supreme Court Preview: What Is in Store for October Term 2016?
CLASS:PUBLIC
X-ALT-DESC;FMTTYPE=text/html:Event: Supreme Court Preview: What Is in Store
  for October Term 2016?\n\n Location: 529 14th Street\, NW Washington DC 2
 0045\n\n
DTSTAMP:20221226T095154Z
END:VEVENT
END:VCALENDAR