BEGIN:VCALENDAR
VERSION:2.0
PRODID:https://fedsoc.org/events/house-judiciary-committee-agenda
BEGIN:VEVENT
UID:63a9c3b9a6228
DTSTART:20170201T170000Z
SEQUENCE:0
TRANSP:OPAQUE
DTEND:20170201T183000Z
LOCATION:529 14th Street\, N.W. Washington DC 20045
SUMMARY:House Judiciary Committee Agenda
CLASS:PUBLIC
X-ALT-DESC;FMTTYPE=text/html:Event: House Judiciary Committee Agenda\n\n Lo
 cation: 529 14th Street\, N.W. Washington DC 20045\n\n
DTSTAMP:20221226T105433Z
END:VEVENT
END:VCALENDAR