BEGIN:VCALENDAR
VERSION:2.0
PRODID:https://fedsoc.org/events/2017-annual-supreme-court-round-up
BEGIN:VEVENT
UID:63a9b55c7bd4a
DTSTART:20170713T160000Z
SEQUENCE:0
TRANSP:OPAQUE
DTEND:20170713T180000Z
LOCATION:529 14th Street\, N.W. 13th Floor NPC Ballroom Washington DC 20045
SUMMARY:2017 Annual Supreme Court Round Up
CLASS:PUBLIC
X-ALT-DESC;FMTTYPE=text/html:Event: 2017 Annual Supreme Court Round Up\n\n 
 Location: 529 14th Street\, N.W. 13th Floor NPC Ballroom Washington DC 200
 45\n\n
DTSTAMP:20221226T095316Z
END:VEVENT
END:VCALENDAR