BEGIN:VCALENDAR
VERSION:2.0
PRODID:https://fedsoc.org/events/heimlich-maneuver-on-operation-choke-point
 -1
BEGIN:VEVENT
UID:63a9fcced6571
DTSTART:20170825T153000Z
SEQUENCE:0
TRANSP:OPAQUE
DTEND:20170825T163000Z
LOCATION:   
SUMMARY:Deep Dive Episode 11 – Heimlich Maneuver on Operation Choke Point
 ?
CLASS:PUBLIC
X-ALT-DESC;FMTTYPE=text/html:Event: Deep Dive Episode 11 – Heimlich Maneu
 ver on Operation Choke Point?\n\n Location:    \n\n
DTSTAMP:20221226T145806Z
END:VEVENT
END:VCALENDAR