BEGIN:VCALENDAR
VERSION:2.0
PRODID:https://fedsoc.org/events/a-conversation-with-senator-rand-paul
BEGIN:VEVENT
UID:63a81b1fa68f6
DTSTART:20170906T160000Z
SEQUENCE:0
TRANSP:OPAQUE
DTEND:20170906T170000Z
LOCATION:2000 H St NW Washington WA 20052
SUMMARY:A Conversation with Senator Rand Paul
CLASS:PUBLIC
X-ALT-DESC;FMTTYPE=text/html:Event: A Conversation with Senator Rand Paul\n
 \n Location: 2000 H St NW Washington WA 20052\n\n
DTSTAMP:20221225T044255Z
END:VEVENT
END:VCALENDAR